
BEGIN:VCALENDAR
VERSION:2.0
PRODID:-//INCA project - ECPv6.8.3//NONSGML v1.0//EN
CALSCALE:GREGORIAN
METHOD:PUBLISH
X-WR-CALNAME:INCA project
X-ORIGINAL-URL:https://inca-project.eu
X-WR-CALDESC:Events for INCA project
REFRESH-INTERVAL;VALUE=DURATION:PT1H
X-Robots-Tag:noindex
X-PUBLISHED-TTL:PT1H
BEGIN:VTIMEZONE
TZID:Europe/Madrid
BEGIN:DAYLIGHT
TZOFFSETFROM:+0100
TZOFFSETTO:+0200
TZNAME:CEST
DTSTART:20250330T010000
END:DAYLIGHT
BEGIN:STANDARD
TZOFFSETFROM:+0200
TZOFFSETTO:+0100
TZNAME:CET
DTSTART:20251026T010000
END:STANDARD
END:VTIMEZONE
BEGIN:VEVENT
DTSTART;VALUE=DATE:20250920
DTEND;VALUE=DATE:20251013
DTSTAMP:20260420T032826
CREATED:20250912T074909Z
LAST-MODIFIED:20251001T112913Z
UID:3881-1758326400-1760313599@inca-project.eu
SUMMARY:INCA Exhibition ‘Data Materialities’ Opening in Bologna
DESCRIPTION:📅 Opening: September 20\, 2025\, 5:00 PM (followed by buffet)🖼️ On view: September 20 – October 12\, 2025📍 Location: Sala d’Ercole\, Palazzo d’Accursio\, Bologna \nDescriptionINCA presents Data Materialities\, an exhibition exploring the hidden infrastructures\, labor\, and materials that sustain our digital world. Featuring collaborations by EXTENTS (McClain Clutter & Cyrus Peñarroyo)\, Morgane Billuart\, Rául Silva\, and soju.studio\, the show translates research on data materialities into immersive architectural environments.Beyond the exhibition itself\, Data Materialities will be accompanied by a series of talks and public meetings. \nProgram \n\nSeptember 20\, 5:00 PM – Exhibition opening\, Sala d’Ercole\, Palazzo d’Accursio (Bologna)\nOctober 1\, 6:00 PM – Talk with Letizia Chiappini (Slutty Urbanism) and Benjamin Gerdes (Ghost Platform Project)\, Sala Verde\, Palazzo d’Accursio (Bologna)\nOctober 8\, 6:00 PM – Talk with Lua Vollaard (Superkilo Girls) and Lorenza Pignatti (NABA Milano)\, Sala Tassinari\, Palazzo d’Accursio (Bologna)\nOctober 10\, 8:30 AM – 12:00 PM – Meeting “Piattaforme e digitale: un modulo educativo per le scuole”\, Sala Anziani\, Palazzo d’Accursio (Bologna)\nOctober 10\, 4:00 – 5:30 PM – Meeting “Design partecipativo di nuove piattaforme digitali per la città: linee guida\, buone pratiche etiche e alternative a confronto”\, Sala Anziani\, Palazzo d’Accursio (Bologna)\, followed by a guided tour and closing buffet. (Registration required)\n\nOpening hours \n\nTue–Thu: 9:00 AM – 6:00 PM\nFri: 3:00 PM – 6:00 PM\nSat–Sun: 9:00 AM – 1:00 PM\nMon: Closed\n\n👉 [Read the full news story here]
URL:https://inca-project.eu/event/inca-exhibition-data-materialities-opening-in-bologna/
LOCATION:Sala d’Ercole\, Sala d'Ercole\, Palazzo d'accursio\, Piazza maggiore 6\,\, Bologna\, Italy
ATTACH;FMTTYPE=image/png:https://inca-project.eu/wp-content/uploads/2025/09/2025_INCA_GRAFICHE-SOCIAL_POST-IG-FB-def.png
END:VEVENT
BEGIN:VEVENT
DTSTART;TZID=Europe/Madrid:20251010T090000
DTEND;TZID=Europe/Madrid:20251010T120000
DTSTAMP:20260420T032826
CREATED:20250921T101257Z
LAST-MODIFIED:20251008T124737Z
UID:4158-1760086800-1760097600@inca-project.eu
SUMMARY:Public launch of the INCA Educational Module
DESCRIPTION:On 10 October\, the INCA educational module—developed through co-creation between INCA members from SUPSI and teachers from the Istituto di Istruzione Superiore Mattei (a Bologna secondary school)—will be publicly launched. \nThe presentation is part of the program of activities for the INCA Exhibition and will take place in the Sala Anziani\, Palazzo d’Accursio (Bologna)\, from 9:00 AM to 12:00 PM. \nStudents\, teachers\, and institutional partners will have the opportunity to learn about the contents and rationale of the educational module\, which aims to empower young European citizens in navigating the challenges of digital platforms and fostering trust in democratic institutions.
URL:https://inca-project.eu/event/public-launch-of-the-inca-educational-module/
LOCATION:Sala Anziani\, Palazzo d'Accursio\, Bologna\, Italy
ATTACH;FMTTYPE=image/jpeg:https://inca-project.eu/wp-content/uploads/2025/09/EVENTS-8.jpg
END:VEVENT
BEGIN:VEVENT
DTSTART;TZID=Europe/Madrid:20251010T160000
DTEND;TZID=Europe/Madrid:20251010T173000
DTSTAMP:20260420T032826
CREATED:20251003T083213Z
LAST-MODIFIED:20251008T064747Z
UID:4075-1760112000-1760117400@inca-project.eu
SUMMARY:ROUND TABLE: "Participatory design of new digital platforms for the city: guidelines\, ethical best practices\, and a comparison of alternatives"
DESCRIPTION:On October 10\, a round table entitled “Participatory design of new digital platforms for the city: guidelines\, ethical best practices\, and a comparison of alternatives” will take place from 16:00 to 17:30 at Sala Anziani – Palazzo d’Accursio (Bologna). \nAs the final event of the INCA Open Innovation Laboratories (OILs) held in Bologna\, Barcelona\, and Bucharest\, the event\, moderated by Valentina Bazzarin\, data ethics expert and co-founder of Period Think Tank\, will begin by sharing the best practices and guidelines that have emerged over the past months from the work of the OILs. This task will be carried out by our colleagues Giorgia Romagnoli (Urbasofia) and Umberto Mezzacapo (Fondazione IU Rusconi Ghigi)\, together with the INCA coordinator Edoardo Mollona (University of Bologna). \nThis presentation will be followed by an interactive session with interventions from about ten experts from companies\, public\, and private organizations. The aim is to foster dialogue and reflect on the design of ethical\, sustainable\, and alternative practices to the big tech paradigm\, inviting the different stakeholders to discuss the impacts already generated (or that may arise) for people and cities. \nThe event is also framed as the final moment of the public program of the Data Materialities INCA Exhibition (which will close in Bologna on October 12)\, and once the round table is over\, attendees will have the opportunity to take a guided tour and conclude with an aperitif. \nThe event is free but requires registration via this link. \nCheck the full event program ⬇️
URL:https://inca-project.eu/event/round-table-participatory-design-of-new-digital-platforms-for-the-city-guidelines-ethical-best-practices-and-a-comparison-of-alternatives/
LOCATION:Sala Anziani\, Palazzo d'Accursio\, Bologna\, Italy
ATTACH;FMTTYPE=image/jpeg:https://inca-project.eu/wp-content/uploads/2025/10/ROUND-TABLE.jpg
END:VEVENT
END:VCALENDAR