
BEGIN:VCALENDAR
VERSION:2.0
PRODID:-//INCA project - ECPv6.8.3//NONSGML v1.0//EN
CALSCALE:GREGORIAN
METHOD:PUBLISH
X-WR-CALNAME:INCA project
X-ORIGINAL-URL:https://inca-project.eu
X-WR-CALDESC:Events for INCA project
REFRESH-INTERVAL;VALUE=DURATION:PT1H
X-Robots-Tag:noindex
X-PUBLISHED-TTL:PT1H
BEGIN:VTIMEZONE
TZID:Europe/Madrid
BEGIN:DAYLIGHT
TZOFFSETFROM:+0100
TZOFFSETTO:+0200
TZNAME:CEST
DTSTART:20250330T010000
END:DAYLIGHT
BEGIN:STANDARD
TZOFFSETFROM:+0200
TZOFFSETTO:+0100
TZNAME:CET
DTSTART:20251026T010000
END:STANDARD
END:VTIMEZONE
BEGIN:VEVENT
DTSTART;TZID=Europe/Madrid:20250917T113000
DTEND;TZID=Europe/Madrid:20250917T123000
DTSTAMP:20260420T001301
CREATED:20250911T080445Z
LAST-MODIFIED:20250915T085758Z
UID:3860-1758108600-1758112200@inca-project.eu
SUMMARY:Edoardo Mollona keynote speaker at the final conference of the Rebalance project
DESCRIPTION:On 17 September\, our project coordinator Edoardo Mollona will participate in the final conference of our sister project Rebalance\, which aims to provide new insights\, resources\, events\, and learning materials to help foster a rebalancing of capitalism and democracy. He has been invited as a keynote speaker and will share INCA’s results on what the European media say when they talk about GAFAM and how this is politically relevant.
URL:https://inca-project.eu/event/edoardo-mollona-keynote-speaker-at-the-final-conference-of-the-rebalance-project/
LOCATION:University of Pisa\, Le Benedettine Conference Center\, Piazza S. Paolo a Ripa D’Arno\, 16\, Le Benedettine Conference Center\, Piazza S. Paolo a Ripa D'Arno\, 16\, Pisa\, Select a State or Province:\, 56125\, Italy
ATTACH;FMTTYPE=image/jpeg:https://inca-project.eu/wp-content/uploads/2025/09/EVENTS-52.jpg
END:VEVENT
END:VCALENDAR