
BEGIN:VCALENDAR
VERSION:2.0
PRODID:-//INCA project - ECPv6.8.3//NONSGML v1.0//EN
CALSCALE:GREGORIAN
METHOD:PUBLISH
X-ORIGINAL-URL:https://inca-project.eu
X-WR-CALDESC:Events for INCA project
REFRESH-INTERVAL;VALUE=DURATION:PT1H
X-Robots-Tag:noindex
X-PUBLISHED-TTL:PT1H
BEGIN:VTIMEZONE
TZID:Europe/Madrid
BEGIN:DAYLIGHT
TZOFFSETFROM:+0100
TZOFFSETTO:+0200
TZNAME:CEST
DTSTART:20250330T010000
END:DAYLIGHT
BEGIN:STANDARD
TZOFFSETFROM:+0200
TZOFFSETTO:+0100
TZNAME:CET
DTSTART:20251026T010000
END:STANDARD
END:VTIMEZONE
BEGIN:VEVENT
DTSTART;TZID=Europe/Madrid:20250522T090000
DTEND;TZID=Europe/Madrid:20250522T120000
DTSTAMP:20260419T155119
CREATED:20250512T122226Z
LAST-MODIFIED:20250513T080604Z
UID:3612-1747904400-1747915200@inca-project.eu
SUMMARY:Bucharest OIL workshop: “Co-design space: platform creation and process governance”
DESCRIPTION:On May 22\, as an activity of the Bucharest Open Innovation Lab\, a workshop entitled “Co-design space: platform creation and process governance” will be held. \nThe event\, organized by Urbasofia in collaboration with ADIZMB\, will take place in Bucharest at the Arcub – Subsol hall. It will last for approximately 3 hours\, from 9:00 AM to 12:00 PM. During this time\, around 20 stakeholders will come together to collaboratively design the governance model and participatory mechanisms for a new civic digital platform\, envisioned as an ethical alternative to Facebook. \nThe session will concentrate on the governance\, maintenance\, and co-ownership of the platform by public institutions\, civil society\, and citizens. The workshop aims to develop a transparent\, inclusive\, and sustainable framework for civic technology in Bucharest. This will be achieved through presentations\, small group discussions\, and co-creation activities.
URL:https://inca-project.eu/event/bucharest-oil-workshop-co-design-space-platform-creation-and-process-governance/
LOCATION:Arcub – sala Subsol\, Bucharest\, Romania
ATTACH;FMTTYPE=image/jpeg:https://inca-project.eu/wp-content/uploads/2025/05/EVENTS-39.jpg
END:VEVENT
END:VCALENDAR